BEGIN:VCALENDAR
VERSION:2.0
PRODID:-//McHenry County Detachment Marine Corps League #1009 - ECPv6.15.10//NONSGML v1.0//EN
CALSCALE:GREGORIAN
METHOD:PUBLISH
X-WR-CALNAME:McHenry County Detachment Marine Corps League #1009
X-ORIGINAL-URL:https://www.mchenrycountymcl.com
X-WR-CALDESC:Events for McHenry County Detachment Marine Corps League #1009
REFRESH-INTERVAL;VALUE=DURATION:PT1H
X-Robots-Tag:noindex
X-PUBLISHED-TTL:PT1H
BEGIN:VTIMEZONE
TZID:America/Chicago
BEGIN:DAYLIGHT
TZOFFSETFROM:-0600
TZOFFSETTO:-0500
TZNAME:CDT
DTSTART:20240310T080000
END:DAYLIGHT
BEGIN:STANDARD
TZOFFSETFROM:-0500
TZOFFSETTO:-0600
TZNAME:CST
DTSTART:20241103T070000
END:STANDARD
BEGIN:DAYLIGHT
TZOFFSETFROM:-0600
TZOFFSETTO:-0500
TZNAME:CDT
DTSTART:20250309T080000
END:DAYLIGHT
BEGIN:STANDARD
TZOFFSETFROM:-0500
TZOFFSETTO:-0600
TZNAME:CST
DTSTART:20251102T070000
END:STANDARD
BEGIN:DAYLIGHT
TZOFFSETFROM:-0600
TZOFFSETTO:-0500
TZNAME:CDT
DTSTART:20260308T080000
END:DAYLIGHT
BEGIN:STANDARD
TZOFFSETFROM:-0500
TZOFFSETTO:-0600
TZNAME:CST
DTSTART:20261101T070000
END:STANDARD
END:VTIMEZONE
BEGIN:VTIMEZONE
TZID:America/Chicago
BEGIN:DAYLIGHT
TZOFFSETFROM:-0600
TZOFFSETTO:-0500
TZNAME:CDT
DTSTART:20240310T080000
END:DAYLIGHT
BEGIN:STANDARD
TZOFFSETFROM:-0500
TZOFFSETTO:-0600
TZNAME:CST
DTSTART:20241103T070000
END:STANDARD
BEGIN:DAYLIGHT
TZOFFSETFROM:-0600
TZOFFSETTO:-0500
TZNAME:CDT
DTSTART:20250309T080000
END:DAYLIGHT
BEGIN:STANDARD
TZOFFSETFROM:-0500
TZOFFSETTO:-0600
TZNAME:CST
DTSTART:20251102T070000
END:STANDARD
BEGIN:DAYLIGHT
TZOFFSETFROM:-0600
TZOFFSETTO:-0500
TZNAME:CDT
DTSTART:20260308T080000
END:DAYLIGHT
BEGIN:STANDARD
TZOFFSETFROM:-0500
TZOFFSETTO:-0600
TZNAME:CST
DTSTART:20261101T070000
END:STANDARD
END:VTIMEZONE
BEGIN:VEVENT
DTSTART;TZID=America/Chicago:20250107T170000
DTEND;TZID=America/Chicago:20250107T190000
DTSTAMP:20260421T231542
CREATED:20241206T072252Z
LAST-MODIFIED:20241206T072252Z
UID:2918-1736269200-1736276400@www.mchenrycountymcl.com
SUMMARY:Marksmanship Training
DESCRIPTION:Prepare for and execute pistol training course of fire at Northshore Sports.
URL:https://www.mchenrycountymcl.com/event/marksmanship-training/
LOCATION:Northshort Sports – Crystal Lake\, 560 Beechcraft Ln\, Crystal Lake\, IL 60012\, 560 Beechcraft Ln\, Crystal Lake\, IL\, 60012\, United States
END:VEVENT
BEGIN:VEVENT
DTSTART;TZID=America/Chicago:20250109T170000
DTEND;TZID=America/Chicago:20250109T190000
DTSTAMP:20260421T231542
CREATED:20241206T072406Z
LAST-MODIFIED:20241206T072406Z
UID:2921-1736442000-1736449200@www.mchenrycountymcl.com
SUMMARY:Marksmanship Training
DESCRIPTION:Prepare for and execute pistol training course of fire at Northshore Sports.
URL:https://www.mchenrycountymcl.com/event/marksmanship-training-2/
LOCATION:Northshort Sports – Crystal Lake\, 560 Beechcraft Ln\, Crystal Lake\, IL 60012\, 560 Beechcraft Ln\, Crystal Lake\, IL\, 60012\, United States
END:VEVENT
BEGIN:VEVENT
DTSTART;TZID=America/Chicago:20250110T170000
DTEND;TZID=America/Chicago:20250110T190000
DTSTAMP:20260421T231542
CREATED:20241206T073413Z
LAST-MODIFIED:20241206T073413Z
UID:2928-1736528400-1736535600@www.mchenrycountymcl.com
SUMMARY:R.E.D. Shirt Friday
DESCRIPTION:R.E.D. Shirt Fridays – gather to Remember Everyone Deployed in Harms Way. Our weekly get together to catch upon happenings in our family.
URL:https://www.mchenrycountymcl.com/event/red-shirt-friday/
END:VEVENT
BEGIN:VEVENT
DTSTART;TZID=America/Chicago:20250112T120000
DTEND;TZID=America/Chicago:20250112T160000
DTSTAMP:20260421T231542
CREATED:20241206T072617Z
LAST-MODIFIED:20241206T072617Z
UID:2923-1736683200-1736697600@www.mchenrycountymcl.com
SUMMARY:Family Bowling
DESCRIPTION:Gather the family and enjoy a bowling outing at Woodstock Bowling Lanes.
URL:https://www.mchenrycountymcl.com/event/family-bowling/
END:VEVENT
BEGIN:VEVENT
DTSTART;TZID=America/Chicago:20250115T170000
DTEND;TZID=America/Chicago:20250115T183000
DTSTAMP:20260421T231542
CREATED:20241206T092321Z
LAST-MODIFIED:20241206T092321Z
UID:2945-1736960400-1736965800@www.mchenrycountymcl.com
SUMMARY:Veterans Assistance Commission - Board Meeting
DESCRIPTION:The VAC meets the 3rd Wednesday each month to discuss and review concerns for veterans in McHenry County. During this month\, the Veterans Assistance Commission Foundation will also have its annual board meeting. All are welcome to attend to see what is going on\, express concerns affecting our county for veterans and to know who the leadership of our Commission are.
URL:https://www.mchenrycountymcl.com/event/veterans-assistance-commission-board-meeting/
LOCATION:McHenry County Administration Building\, 667 Ware RD\, Woodstock\, IL\, 60098\, United States
END:VEVENT
BEGIN:VEVENT
DTSTART;TZID=America/Chicago:20250117T170000
DTEND;TZID=America/Chicago:20250117T190000
DTSTAMP:20260421T231542
CREATED:20241206T090321Z
LAST-MODIFIED:20241206T090321Z
UID:2930-1737133200-1737140400@www.mchenrycountymcl.com
SUMMARY:R.E.D Shirt Friday
DESCRIPTION:R.E.D. Shirt Fridays – gather to Remember Everyone Deployed in Harms Way. Our weekly get together to catch upon happenings in our family.
URL:https://www.mchenrycountymcl.com/event/r-e-d-shirt-friday/
END:VEVENT
BEGIN:VEVENT
DTSTART;TZID=America/Chicago:20250117T193000
DTEND;TZID=America/Chicago:20250117T203000
DTSTAMP:20260421T231542
CREATED:20241206T071845Z
LAST-MODIFIED:20241206T071845Z
UID:2916-1737142200-1737145800@www.mchenrycountymcl.com
SUMMARY:Detachment Meeting
DESCRIPTION:Monthly Detachment Meeting – review website updates\, plan for spring activities. Prepare for Superbowl LIX Bash.
URL:https://www.mchenrycountymcl.com/event/detachment-meeting-2/
LOCATION:Trademark Events\, 240 Throop Street\, Woodstock\, IL\, 60098\, United States
END:VEVENT
BEGIN:VEVENT
DTSTART;TZID=America/Chicago:20250124T170000
DTEND;TZID=America/Chicago:20250124T190000
DTSTAMP:20260421T231542
CREATED:20241206T090359Z
LAST-MODIFIED:20241206T090359Z
UID:2932-1737738000-1737745200@www.mchenrycountymcl.com
SUMMARY:R.E.D Shirt Friday
DESCRIPTION:R.E.D. Shirt Fridays – gather to Remember Everyone Deployed in Harms Way. Our weekly get together to catch upon happenings in our family. \nThis week we will be at Rookies in Crystal Lake. \n  \n 
URL:https://www.mchenrycountymcl.com/event/r-e-d-shirt-friday-2/
LOCATION:Rookies\, Crystal Lake\, 72 N. Williams Street\, Crystal Lake\, IL\, 60012\, United States
END:VEVENT
BEGIN:VEVENT
DTSTART;TZID=America/Chicago:20250125T080000
DTEND;TZID=America/Chicago:20250125T170000
DTSTAMP:20260421T231542
CREATED:20241206T073045Z
LAST-MODIFIED:20241206T073045Z
UID:2925-1737792000-1737824400@www.mchenrycountymcl.com
SUMMARY:Family Lunch - Nick's Pizza and Pub
DESCRIPTION:Join the League for a family outing at Nick’s Pizza in Crystal Lake.
URL:https://www.mchenrycountymcl.com/event/family-lunch-nicks-pizza-and-pub/
LOCATION:Nick’s Pizza & Pub\, 856 Pyott RD\, Crystal Lake\, IL\, 60012\, United States
END:VEVENT
BEGIN:VEVENT
DTSTART;TZID=America/Chicago:20250131T170000
DTEND;TZID=America/Chicago:20250131T190000
DTSTAMP:20260421T231542
CREATED:20241206T090445Z
LAST-MODIFIED:20241206T090445Z
UID:2934-1738342800-1738350000@www.mchenrycountymcl.com
SUMMARY:R.E.D Shirt Friday
DESCRIPTION:R.E.D. Shirt Fridays – gather to Remember Everyone Deployed in Harms Way. Our weekly get together to catch upon happenings in our family. \nThis week we will be at Sofie’s Whiskey and Wine\, Woodstock.
URL:https://www.mchenrycountymcl.com/event/r-e-d-shirt-friday-3/
LOCATION:Sofie’s Whiskey & Wine\, 150 S Eastwood Dr. Unit E\, Woodstock\, IL\, 60098\, United States
END:VEVENT
END:VCALENDAR