BEGIN:VCALENDAR
VERSION:2.0
PRODID:-//McHenry County Detachment Marine Corps League #1009 - ECPv6.15.10//NONSGML v1.0//EN
CALSCALE:GREGORIAN
METHOD:PUBLISH
X-WR-CALNAME:McHenry County Detachment Marine Corps League #1009
X-ORIGINAL-URL:https://www.mchenrycountymcl.com
X-WR-CALDESC:Events for McHenry County Detachment Marine Corps League #1009
REFRESH-INTERVAL;VALUE=DURATION:PT1H
X-Robots-Tag:noindex
X-PUBLISHED-TTL:PT1H
BEGIN:VTIMEZONE
TZID:America/Chicago
BEGIN:DAYLIGHT
TZOFFSETFROM:-0600
TZOFFSETTO:-0500
TZNAME:CDT
DTSTART:20230312T080000
END:DAYLIGHT
BEGIN:STANDARD
TZOFFSETFROM:-0500
TZOFFSETTO:-0600
TZNAME:CST
DTSTART:20231105T070000
END:STANDARD
BEGIN:DAYLIGHT
TZOFFSETFROM:-0600
TZOFFSETTO:-0500
TZNAME:CDT
DTSTART:20240310T080000
END:DAYLIGHT
BEGIN:STANDARD
TZOFFSETFROM:-0500
TZOFFSETTO:-0600
TZNAME:CST
DTSTART:20241103T070000
END:STANDARD
BEGIN:DAYLIGHT
TZOFFSETFROM:-0600
TZOFFSETTO:-0500
TZNAME:CDT
DTSTART:20250309T080000
END:DAYLIGHT
BEGIN:STANDARD
TZOFFSETFROM:-0500
TZOFFSETTO:-0600
TZNAME:CST
DTSTART:20251102T070000
END:STANDARD
END:VTIMEZONE
BEGIN:VEVENT
DTSTART;TZID=America/Chicago:20241206T170000
DTEND;TZID=America/Chicago:20241206T190000
DTSTAMP:20260421T174229
CREATED:20241206T090814Z
LAST-MODIFIED:20241206T090814Z
UID:2936-1733504400-1733511600@www.mchenrycountymcl.com
SUMMARY:R.E.D Shirt Friday
DESCRIPTION:R.E.D. Shirt Fridays – gather to Remember Everyone Deployed in Harms Way. Our weekly get together to catch upon happenings in our family.
URL:https://www.mchenrycountymcl.com/event/r-e-d-shirt-friday-4/
LOCATION:Galati’s Hideaway\, 800 Feinberg Court\, Cary\, IL\, 60013
END:VEVENT
BEGIN:VEVENT
DTSTART;TZID=America/Chicago:20241207T080000
DTEND;TZID=America/Chicago:20241207T100000
DTSTAMP:20260421T174229
CREATED:20241206T093237Z
LAST-MODIFIED:20241206T093237Z
UID:2950-1733558400-1733565600@www.mchenrycountymcl.com
SUMMARY:Breakfast with Marines
DESCRIPTION:Join us for breakfast at Kim & Patties in McHenry. Good conversation and a chance to see what everyone is doing.
URL:https://www.mchenrycountymcl.com/event/breakfast-with-marines/
LOCATION:Kim & Patties Cafe\, 731 Ridgeview DR\, McHenry\, IL\, 60050\, United States
END:VEVENT
BEGIN:VEVENT
DTSTART;TZID=America/Chicago:20241213T170000
DTEND;TZID=America/Chicago:20241213T190000
DTSTAMP:20260421T174229
CREATED:20241206T093618Z
LAST-MODIFIED:20241206T093618Z
UID:2955-1734109200-1734116400@www.mchenrycountymcl.com
SUMMARY:R.E.D Shirt Friday
DESCRIPTION:R.E.D. Shirt Fridays – gather to Remember Everyone Deployed in Harms Way. Our weekly get together to catch upon happenings in our family.
URL:https://www.mchenrycountymcl.com/event/r-e-d-shirt-friday-6/
LOCATION:El Vado Mexican Restaurant\, 929 Front Street\, McHenry\, IL\, 60050\, United States
END:VEVENT
BEGIN:VEVENT
DTSTART;TZID=America/Chicago:20241216T180000
DTEND;TZID=America/Chicago:20241216T190000
DTSTAMP:20260421T174229
CREATED:20241206T091640Z
LAST-MODIFIED:20241206T091640Z
UID:2941-1734372000-1734375600@www.mchenrycountymcl.com
SUMMARY:Detachment Leadership Board Meeting
DESCRIPTION:Monthly leadership meeting to prepare for the Detachment on Thursday\, December 19th. All are welcome to see what is going on. Committee Chairs will be discussing their information as necessary. Planning for the Bowling Day and Nick’s Pizza Family Lunch will be reviewed.
URL:https://www.mchenrycountymcl.com/event/detachment-leadership-board-meeting/
LOCATION:Exemplar Financial\, 413 E Terra Cotta Ave\, Crystal Lake\, IL\, 60012\, United States
END:VEVENT
BEGIN:VEVENT
DTSTART;TZID=America/Chicago:20241218T180000
DTEND;TZID=America/Chicago:20241218T190000
DTSTAMP:20260421T174229
CREATED:20241206T092803Z
LAST-MODIFIED:20241206T092803Z
UID:2948-1734544800-1734548400@www.mchenrycountymcl.com
SUMMARY:American Veterans Alliance Board Meeting
DESCRIPTION:American Veterans Alliance (AVA) board will be meeting to discuss their business affairs. This is an open meeting for interested individuals.
URL:https://www.mchenrycountymcl.com/event/american-veterans-alliance-board-meeting/
END:VEVENT
BEGIN:VEVENT
DTSTART;TZID=America/Chicago:20241219T190000
DTEND;TZID=America/Chicago:20241219T203000
DTSTAMP:20260421T174229
CREATED:20241206T071650Z
LAST-MODIFIED:20241206T071650Z
UID:2914-1734634800-1734640200@www.mchenrycountymcl.com
SUMMARY:Detachment Meeting
DESCRIPTION:December Detachment Meeting – review health of the detachment\, plan for next six months of activities.
URL:https://www.mchenrycountymcl.com/event/detachment-meeting/
LOCATION:Trademark Events\, 240 Throop Street\, Woodstock\, IL\, 60098\, United States
END:VEVENT
BEGIN:VEVENT
DTSTART;TZID=America/Chicago:20241220T170000
DTEND;TZID=America/Chicago:20241220T190000
DTSTAMP:20260421T174229
CREATED:20241206T091115Z
LAST-MODIFIED:20241206T091115Z
UID:2939-1734714000-1734721200@www.mchenrycountymcl.com
SUMMARY:R.E.D Shirt Friday
DESCRIPTION:R.E.D. Shirt Fridays – gather to Remember Everyone Deployed in Harms Way. Our weekly get together to catch upon happenings in our family.
URL:https://www.mchenrycountymcl.com/event/r-e-d-shirt-friday-5/
END:VEVENT
END:VCALENDAR