BEGIN:VCALENDAR
VERSION:2.0
PRODID:-//McHenry County Detachment Marine Corps League #1009 - ECPv6.15.10//NONSGML v1.0//EN
CALSCALE:GREGORIAN
METHOD:PUBLISH
X-ORIGINAL-URL:https://www.mchenrycountymcl.com
X-WR-CALDESC:Events for McHenry County Detachment Marine Corps League #1009
REFRESH-INTERVAL;VALUE=DURATION:PT1H
X-Robots-Tag:noindex
X-PUBLISHED-TTL:PT1H
BEGIN:VTIMEZONE
TZID:UTC
BEGIN:STANDARD
TZOFFSETFROM:+0000
TZOFFSETTO:+0000
TZNAME:UTC
DTSTART:20250101T000000
END:STANDARD
END:VTIMEZONE
BEGIN:VEVENT
DTSTART;TZID=UTC:20260312T173000
DTEND;TZID=UTC:20260312T193000
DTSTAMP:20260419T092650
CREATED:20260114T180923Z
LAST-MODIFIED:20260114T180923Z
UID:8133-1773336600-1773343800@www.mchenrycountymcl.com
SUMMARY:Detachment Marksmanship Event
DESCRIPTION:Every first Tuesday and second Thursday of each month\, the member get together for a shooting practice event at Northshore Sports in Crystal Lake.  Bring at least 100 rounds of ammo.  Bring a smile.  Meet at 1730 and weapons hot at 1800.
URL:https://www.mchenrycountymcl.com/event/detachment-marksmanship-event/
END:VEVENT
END:VCALENDAR