BEGIN:VCALENDAR
VERSION:2.0
PRODID:-//McHenry County Detachment Marine Corps League #1009 - ECPv6.15.10//NONSGML v1.0//EN
CALSCALE:GREGORIAN
METHOD:PUBLISH
X-WR-CALNAME:McHenry County Detachment Marine Corps League #1009
X-ORIGINAL-URL:https://www.mchenrycountymcl.com
X-WR-CALDESC:Events for McHenry County Detachment Marine Corps League #1009
REFRESH-INTERVAL;VALUE=DURATION:PT1H
X-Robots-Tag:noindex
X-PUBLISHED-TTL:PT1H
BEGIN:VTIMEZONE
TZID:America/Chicago
BEGIN:DAYLIGHT
TZOFFSETFROM:-0600
TZOFFSETTO:-0500
TZNAME:CDT
DTSTART:20240310T080000
END:DAYLIGHT
BEGIN:STANDARD
TZOFFSETFROM:-0500
TZOFFSETTO:-0600
TZNAME:CST
DTSTART:20241103T070000
END:STANDARD
BEGIN:DAYLIGHT
TZOFFSETFROM:-0600
TZOFFSETTO:-0500
TZNAME:CDT
DTSTART:20250309T080000
END:DAYLIGHT
BEGIN:STANDARD
TZOFFSETFROM:-0500
TZOFFSETTO:-0600
TZNAME:CST
DTSTART:20251102T070000
END:STANDARD
BEGIN:DAYLIGHT
TZOFFSETFROM:-0600
TZOFFSETTO:-0500
TZNAME:CDT
DTSTART:20260308T080000
END:DAYLIGHT
BEGIN:STANDARD
TZOFFSETFROM:-0500
TZOFFSETTO:-0600
TZNAME:CST
DTSTART:20261101T070000
END:STANDARD
END:VTIMEZONE
BEGIN:VEVENT
DTSTART;VALUE=DATE:20250627
DTEND;VALUE=DATE:20250630
DTSTAMP:20260421T151304
CREATED:20250215T133818Z
LAST-MODIFIED:20250215T133818Z
UID:3114-1750982400-1751241599@www.mchenrycountymcl.com
SUMMARY:Salute Under the Stars
DESCRIPTION:Camping is fun! We are going to host a camping trip at the Wishing Well RV Resort located in Fort Atkinson\, WI\, not more than an hour from McHenry. They are doing a veteran theme event that weekend for us. \nPerfect event for children of all ages. Veteran discounts for campers\, tenting\, and cabins. This is a must go to event. Plan it now.
URL:https://www.mchenrycountymcl.com/event/salute-under-the-stars-2/
LOCATION:Wishing Well RV Camping\, N551 Wishing Well Lane\, Fort Atkinson\, WI\, 53538
END:VEVENT
END:VCALENDAR