BEGIN:VCALENDAR
VERSION:2.0
PRODID:-//McHenry County Detachment Marine Corps League #1009 - ECPv6.15.10//NONSGML v1.0//EN
CALSCALE:GREGORIAN
METHOD:PUBLISH
X-WR-CALNAME:McHenry County Detachment Marine Corps League #1009
X-ORIGINAL-URL:https://www.mchenrycountymcl.com
X-WR-CALDESC:Events for McHenry County Detachment Marine Corps League #1009
REFRESH-INTERVAL;VALUE=DURATION:PT1H
X-Robots-Tag:noindex
X-PUBLISHED-TTL:PT1H
BEGIN:VTIMEZONE
TZID:America/Chicago
BEGIN:DAYLIGHT
TZOFFSETFROM:-0600
TZOFFSETTO:-0500
TZNAME:CDT
DTSTART:20230312T080000
END:DAYLIGHT
BEGIN:STANDARD
TZOFFSETFROM:-0500
TZOFFSETTO:-0600
TZNAME:CST
DTSTART:20231105T070000
END:STANDARD
BEGIN:DAYLIGHT
TZOFFSETFROM:-0600
TZOFFSETTO:-0500
TZNAME:CDT
DTSTART:20240310T080000
END:DAYLIGHT
BEGIN:STANDARD
TZOFFSETFROM:-0500
TZOFFSETTO:-0600
TZNAME:CST
DTSTART:20241103T070000
END:STANDARD
BEGIN:DAYLIGHT
TZOFFSETFROM:-0600
TZOFFSETTO:-0500
TZNAME:CDT
DTSTART:20250309T080000
END:DAYLIGHT
BEGIN:STANDARD
TZOFFSETFROM:-0500
TZOFFSETTO:-0600
TZNAME:CST
DTSTART:20251102T070000
END:STANDARD
END:VTIMEZONE
BEGIN:VEVENT
DTSTART;TZID=America/Chicago:20241213T170000
DTEND;TZID=America/Chicago:20241213T190000
DTSTAMP:20260422T004043
CREATED:20241206T093618Z
LAST-MODIFIED:20241206T093618Z
UID:2955-1734109200-1734116400@www.mchenrycountymcl.com
SUMMARY:R.E.D Shirt Friday
DESCRIPTION:R.E.D. Shirt Fridays – gather to Remember Everyone Deployed in Harms Way. Our weekly get together to catch upon happenings in our family.
URL:https://www.mchenrycountymcl.com/event/r-e-d-shirt-friday-6/
LOCATION:El Vado Mexican Restaurant\, 929 Front Street\, McHenry\, IL\, 60050\, United States
END:VEVENT
END:VCALENDAR